BEGIN:VCALENDAR
VERSION:2.0
PRODID:-//Kool 98 - ECPv4.6.26//NONSGML v1.0//EN
CALSCALE:GREGORIAN
METHOD:PUBLISH
X-WR-CALNAME:Kool 98
X-ORIGINAL-URL:https://kool98.fm
X-WR-CALDESC:Events for Kool 98
BEGIN:VEVENT
DTSTART;VALUE=DATE:20170227
DTEND;VALUE=DATE:20170228
DTSTAMP:20260422T044724
CREATED:20170302T184642Z
LAST-MODIFIED:20170302T184642Z
UID:2540-1488153600-1488239999@kool98.fm
SUMMARY:Free Parenting Session-Drug Awareness
DESCRIPTION:It Takes a Village to Raise a Teen – (session #2.)– Drug Awareness\nThe PSSC’s of the 4 area high schools want to let listeners know about an upcoming free presentation which will provide parents with information about Drug awareness. There will be 3 speakers ; first\, the Saint John Police Force on the drug environment in Saint John\, second\, a personal story of drug dependency to recovery from a 2015 graduate of Portage Atlantic ( an inpatient drug rehab centre) and third\, Dr Tunde who is a psychiatrist specializing in youth addictions will speak about marijuana use and its effect on the developing teenage brain . This event will be held Monday\, February 27\, 2017 at St. Malachy’s Auditorium 7:30-8 p.m. Doors open 6:30 p.m. ( snow date Thursday March 2nd) . For further info you can contact us at SJ.takesavillage@gmail.com \n
URL:https://kool98.fm/event/free-parenting-session-drug-awareness/
END:VEVENT
BEGIN:VEVENT
DTSTART;TZID=America/Halifax:20170227T193000
DTEND;TZID=America/Halifax:20170227T200000
DTSTAMP:20260422T044724
CREATED:20170222T173323Z
LAST-MODIFIED:20170222T173323Z
UID:2518-1488223800-1488225600@kool98.fm
SUMMARY:Parent Session-Drug Awareness
DESCRIPTION:A free parenting Session – Drug Awareness will be held at St. Malachy’s Auditorium from 7:30-8pm.  Doors open at 6:30pm.  For further information you can contact SJ.takesavillage@gmail.com \n
URL:https://kool98.fm/event/parent-session-drug-awareness/
END:VEVENT
END:VCALENDAR