BEGIN:VCALENDAR
VERSION:2.0
PRODID:-//Kool 98 - ECPv4.6.26//NONSGML v1.0//EN
CALSCALE:GREGORIAN
METHOD:PUBLISH
X-WR-CALNAME:Kool 98
X-ORIGINAL-URL:https://kool98.fm
X-WR-CALDESC:Events for Kool 98
BEGIN:VEVENT
DTSTART;VALUE=DATE:20231106
DTEND;VALUE=DATE:20231107
DTSTAMP:20260421T091357
CREATED:20231101T133233Z
LAST-MODIFIED:20231101T133233Z
UID:10724-1699228800-1699315199@kool98.fm
SUMMARY:Vito's Lasagna Day
DESCRIPTION:Vito’s is teaming up with the Saint John Regional Hospital Foundation for another year of our Lasagna Day! Mark your calendars for 𝗠𝗼𝗻𝗱𝗮𝘆\, 𝗡𝗼𝘃𝗲𝗺𝗯𝗲𝗿 𝟲𝘁𝗵\, and help support our community! 🙌\nEnjoy our signature Vito’s lasagna for just $12 with the options of in-house\, to-go and U-Bake orders! 100% of the proceeds from our lasagna sales will be contributed to the much needed Heart-Lung Machine at the New Brunswick Heart Centre. \n📍 𝗟𝗼𝗰𝗮𝘁𝗶𝗼𝗻𝘀 𝗣𝗮𝗿𝘁𝗶𝗰𝗶𝗽𝗮𝘁𝗶𝗻𝗴:\n🍕 Vito’s Uptown\n🍕 Vito’s KV\n🍕 Vito’s Sussex (Pleasant Valley Market) \n🚨 Please note\, there is no option for timed orders. Additionally\, Costco purchases of our lasagnas are not included in this initiative. 🚨 \nYour purchase can help save lives and improve healthcare in our community. Let’s come together to support this vital cause and make a positive impact! 🙌 ❤️ \n
URL:https://kool98.fm/event/vitos-lasagna-day/
ATTACH;FMTTYPE=image/jpeg:https://kool98.fm/wp-content/uploads/sites/10/2023/11/lasagna-day.jpg
END:VEVENT
END:VCALENDAR