BEGIN:VCALENDAR
VERSION:2.0
PRODID:-//Kool 98 - ECPv4.6.26//NONSGML v1.0//EN
CALSCALE:GREGORIAN
METHOD:PUBLISH
X-WR-CALNAME:Kool 98
X-ORIGINAL-URL:https://kool98.fm
X-WR-CALDESC:Events for Kool 98
BEGIN:VEVENT
DTSTART;TZID=America/Halifax:20170607T140000
DTEND;TZID=America/Halifax:20170607T170000
DTSTAMP:20260421T055444
CREATED:20170601T174523Z
LAST-MODIFIED:20170601T174523Z
UID:3044-1496844000-1496854800@kool98.fm
SUMMARY:Vimy Ridge Tree Planting ceremony
DESCRIPTION:The town of Grand Bay – Westfield will participate in the Vimy Oaks Legacy Program by planting a sapling that is directly descended from oak trees that once grew on Vimy Ridge. This tree will provide a lasting memorial to the sacrifices made by Canada’s brave soldiers in the First World War. \nThe planting will have Mayor Grace Losier and executive Director of Landscape NB/PEI in attendance\, and will be held at the intersection of Macdonald Drive and River Valley Drive\, and will run adjacent to our MADD bench. \n
URL:https://kool98.fm/event/vimy-ridge-tree-planting-ceremony/
END:VEVENT
END:VCALENDAR