BEGIN:VCALENDAR
VERSION:2.0
PRODID:-//Kool 98 - ECPv4.6.26//NONSGML v1.0//EN
CALSCALE:GREGORIAN
METHOD:PUBLISH
X-WR-CALNAME:Kool 98
X-ORIGINAL-URL:https://kool98.fm
X-WR-CALDESC:Events for Kool 98
BEGIN:VEVENT
DTSTART;VALUE=DATE:20170214
DTEND;VALUE=DATE:20170215
DTSTAMP:20260421T091225
CREATED:20170208T185547Z
LAST-MODIFIED:20170208T185547Z
UID:2471-1487030400-1487116799@kool98.fm
SUMMARY:Valentine's Day
DESCRIPTION:Happy Valentine’s Day! \n
URL:https://kool98.fm/event/valentines-day/
END:VEVENT
END:VCALENDAR