BEGIN:VCALENDAR
VERSION:2.0
PRODID:-//Kool 98 - ECPv4.6.26//NONSGML v1.0//EN
CALSCALE:GREGORIAN
METHOD:PUBLISH
X-WR-CALNAME:Kool 98
X-ORIGINAL-URL:https://kool98.fm
X-WR-CALDESC:Events for Kool 98
BEGIN:VEVENT
DTSTART;TZID=America/Halifax:20190501T190000
DTEND;TZID=America/Halifax:20190502T190000
DTSTAMP:20260422T084930
CREATED:20190422T174318Z
LAST-MODIFIED:20190422T174318Z
UID:6562-1556737200-1556823600@kool98.fm
SUMMARY:Treasure Island
DESCRIPTION:Barnhill Memorial School presents Treasure Island! This musical will be taking place Wednesday\, May 1st and Thursday\, May 2nd. The performance starts at 7:00 p.m. with the doors opening at 6:30 p.m. Tickets can be purchased at the school in the office. The prices are as follows : Adults – $7 and Children 15 and under – $3. \n
URL:https://kool98.fm/event/treasure-island/
CATEGORIES:Community
END:VEVENT
END:VCALENDAR