BEGIN:VCALENDAR
VERSION:2.0
PRODID:-//Kool 98 - ECPv4.6.26//NONSGML v1.0//EN
CALSCALE:GREGORIAN
METHOD:PUBLISH
X-WR-CALNAME:Kool 98
X-ORIGINAL-URL:https://kool98.fm
X-WR-CALDESC:Events for Kool 98
BEGIN:VEVENT
DTSTART;TZID=America/Halifax:20260723T200000
DTEND;TZID=America/Halifax:20260723T230000
DTSTAMP:20260421T104427
CREATED:20260416T135539Z
LAST-MODIFIED:20260416T140018Z
UID:12382-1784836800-1784847600@kool98.fm
SUMMARY:Toto with special guests Christopher Cross & The Romantics live at Maine Savings Amphitheater on July 23rd!
DESCRIPTION: \n
URL:https://kool98.fm/event/toto-with-special-guests-christopher-cross-the-romantics-live-at-maine-savings-amphitheater-on-july-23rd/
LOCATION:MAINE SAVINGS AMPHITHEATRE
CATEGORIES:Concerts
ATTACH;FMTTYPE=image/png:https://kool98.fm/wp-content/uploads/sites/10/2026/04/TOTO.png
END:VEVENT
END:VCALENDAR