BEGIN:VCALENDAR
VERSION:2.0
PRODID:-//Kool 98 - ECPv4.6.26//NONSGML v1.0//EN
CALSCALE:GREGORIAN
METHOD:PUBLISH
X-WR-CALNAME:Kool 98
X-ORIGINAL-URL:https://kool98.fm
X-WR-CALDESC:Events for Kool 98
BEGIN:VEVENT
DTSTART;TZID=America/Halifax:20251108T070000
DTEND;TZID=America/Halifax:20251108T230000
DTSTAMP:20260422T121718
CREATED:20250717T110157Z
LAST-MODIFIED:20250717T111008Z
UID:11885-1762585200-1762642800@kool98.fm
SUMMARY:the Piano Men! The Music of Elton John and Billy Joel!
DESCRIPTION:Two music legends. One international touring band covering all of their greatest hits. Don’t miss The Piano Men when they visit the Saint John Trade & Convention Centre on Saturday\, Nov. 8! \n \n
URL:https://kool98.fm/event/the-piano-men-the-music-ofelton-john-and-billy-joel/
CATEGORIES:Concerts
ATTACH;FMTTYPE=image/jpeg:https://kool98.fm/wp-content/uploads/sites/10/2025/07/piano.jpg
END:VEVENT
END:VCALENDAR