BEGIN:VCALENDAR
VERSION:2.0
PRODID:-//Kool 98 - ECPv4.6.26//NONSGML v1.0//EN
CALSCALE:GREGORIAN
METHOD:PUBLISH
X-WR-CALNAME:Kool 98
X-ORIGINAL-URL:https://kool98.fm
X-WR-CALDESC:Events for Kool 98
BEGIN:VEVENT
DTSTART;VALUE=DATE:20220203
DTEND;VALUE=DATE:20220204
DTSTAMP:20260424T102327
CREATED:20210119T160312Z
LAST-MODIFIED:20220228T103124Z
UID:8822-1643846400-1643932799@kool98.fm
SUMMARY:THE DAY THE MUSIC DIED ANNIVERSARY
DESCRIPTION:February 3\, 1959: Buddy Holly\, Ritchie Valens and J.P. “The Big Bopper” Richardson were killed in a plane crash. \nDon McLean would call it “The Day the Music Died” in his 1971 hit “American Pie.” \n
URL:https://kool98.fm/event/the-day-the-music-died/
CATEGORIES:Observances
ATTACH;FMTTYPE=image/jpeg:https://kool98.fm/wp-content/uploads/sites/10/2021/01/img-410-2129.jpg
END:VEVENT
END:VCALENDAR