BEGIN:VCALENDAR
VERSION:2.0
PRODID:-//Kool 98 - ECPv4.6.26//NONSGML v1.0//EN
CALSCALE:GREGORIAN
METHOD:PUBLISH
X-WR-CALNAME:Kool 98
X-ORIGINAL-URL:https://kool98.fm
X-WR-CALDESC:Events for Kool 98
BEGIN:VEVENT
DTSTART;TZID=America/Halifax:20170923T140000
DTEND;TZID=America/Halifax:20170923T170000
DTSTAMP:20260424T084157
CREATED:20170915T121959Z
LAST-MODIFIED:20170915T121959Z
UID:3664-1506175200-1506186000@kool98.fm
SUMMARY:Taste of History Tour
DESCRIPTION:Allow costumed interpreters\, who travel with you by bus on your journey\, help transport you back to a time when this special place was once one of the richest regions in Canada with a flourishing lumber industry supported by portable sawmills during the golden age of sail. Learn about what life was life during the 1800’s when the once thriving lumber industry supported the building of over 500 sailing ships in nearby St. Martins. Taste a sample of authentic Maritime delicacies such as fiddleheads\, dulse and a lumberjack’s hearty meal in a replica heritage cookhouse. You’ll get to experience the weekly highlight of their social life by tapping your toes and listening to the sounds of a fiddle. \n  \nCost:           $35 per person taxes included (season pass holders $30 per person taxes included) \n  \nWhere:        Fundy Trail Parkway \n
URL:https://kool98.fm/event/taste-of-history-tour-2/
END:VEVENT
END:VCALENDAR