BEGIN:VCALENDAR
VERSION:2.0
PRODID:-//Kool 98 - ECPv4.6.26//NONSGML v1.0//EN
CALSCALE:GREGORIAN
METHOD:PUBLISH
X-WR-CALNAME:Kool 98
X-ORIGINAL-URL:https://kool98.fm
X-WR-CALDESC:Events for Kool 98
BEGIN:VEVENT
DTSTART;TZID=America/Halifax:20170726T190000
DTEND;TZID=America/Halifax:20170726T220000
DTSTAMP:20260425T184112
CREATED:20170718T125001Z
LAST-MODIFIED:20170718T125001Z
UID:3351-1501095600-1501106400@kool98.fm
SUMMARY:Speakers Series
DESCRIPTION:The Charlotte County Archives will be hosting its second Speaker Series of the summer. Al Churchill will be presenting “Smuggling on the Bay”\, regarding the relationship between Canada and the United States. The event will be held at the St. Andrew’s Courthouse located on 123 Frederick Street. Refreshments will be served after and admission is free or by donations. We hope to see you there! \n
URL:https://kool98.fm/event/speakers-series/
END:VEVENT
END:VCALENDAR