BEGIN:VCALENDAR
VERSION:2.0
PRODID:-//Kool 98 - ECPv4.6.26//NONSGML v1.0//EN
CALSCALE:GREGORIAN
METHOD:PUBLISH
X-WR-CALNAME:Kool 98
X-ORIGINAL-URL:https://kool98.fm
X-WR-CALDESC:Events for Kool 98
BEGIN:VEVENT
DTSTART;TZID=America/Halifax:20171006T193000
DTEND;TZID=America/Halifax:20171006T213000
DTSTAMP:20260421T103859
CREATED:20170913T184908Z
LAST-MODIFIED:20170913T184908Z
UID:3630-1507318200-1507325400@kool98.fm
SUMMARY:Rumours
DESCRIPTION:“RUMOURS” The Ultimate Fleetwood Mac Tribute Show. \nVaughnCo Entertainment is proud to present “Rumours”  The Ultimate  Fleetwood Mac tribute show based in Los Angeles\, California.  The group recreates the legendary band in it’s youthful heyday from 1975-1979. \nTo purchase tickets\, please visit www.imperialonline.nb.ca/TheatreManager/1/tmEvent/tmEvent3058.html \n
URL:https://kool98.fm/event/rumours/
END:VEVENT
END:VCALENDAR