BEGIN:VCALENDAR
VERSION:2.0
PRODID:-//Kool 98 - ECPv4.6.26//NONSGML v1.0//EN
CALSCALE:GREGORIAN
METHOD:PUBLISH
X-WR-CALNAME:Kool 98
X-ORIGINAL-URL:https://kool98.fm
X-WR-CALDESC:Events for Kool 98
BEGIN:VEVENT
DTSTART;TZID=America/Halifax:20231018T080000
DTEND;TZID=America/Halifax:20231029T170000
DTSTAMP:20260424T120321
CREATED:20231016T161851Z
LAST-MODIFIED:20231016T161851Z
UID:10702-1697616000-1698598800@kool98.fm
SUMMARY:Rockwood Park Haunted Campground II
DESCRIPTION:Join us for a spine-chilling experience at Rockwood Park Haunted Campground II! Get ready to be scared out of your wits as we bring you a night of frights and thrills. This in-person 13-day event starts Wednesday\, October 18\, 2023\, from 5 PM-9:30 PM to Sunday\, October 29th (Atlantic Time). \nLocated at 142 Lake Drive South\, Saint John\, NB E2K 5S2\, our haunted campground promises to be the ultimate destination for all horror enthusiasts. Prepare yourself for a night filled with eerie encounters\, terrifying trails\, and bone-chilling surprises. \nWalk through the darkness and face your deepest fears as you navigate our haunted trails. Encounter ghouls\, ghosts\, and other spooky creatures lurking in the shadows. This event is not for the faint-hearted! \nWhether you’re a horror fanatic or simply seeking a thrilling adventure\, Rockwood Park Haunted Campground II is the place to be. Don’t miss out on this unforgettable night of scares and screams. Mark your calendars and get ready for a hauntingly good time! \nSpace is limited for each time slot. Get your tickets early before they run out! \nAll proceeds go towards the Saint John Horticultural Association\, a nonprofit that benefits the Public Gardens and the Rockwood Park Campground. \n
URL:https://kool98.fm/event/rockwood-park-haunted-campground-ii/
END:VEVENT
END:VCALENDAR