BEGIN:VCALENDAR
VERSION:2.0
PRODID:-//Kool 98 - ECPv4.6.26//NONSGML v1.0//EN
CALSCALE:GREGORIAN
METHOD:PUBLISH
X-WR-CALNAME:Kool 98
X-ORIGINAL-URL:https://kool98.fm
X-WR-CALDESC:Events for Kool 98
BEGIN:VEVENT
DTSTART;TZID=America/Halifax:20250208T130000
DTEND;TZID=America/Halifax:20250208T150000
DTSTAMP:20260422T114049
CREATED:20250129T101951Z
LAST-MODIFIED:20250129T101951Z
UID:11499-1739019600-1739026800@kool98.fm
SUMMARY:Pooches\, Smooches\, and Pints
DESCRIPTION:\n IT’S THAT TIME OF YEAR AGAIN! \n\n\nGet ready for an unforgettable afternoon at Pooches\, Smooches\, and Pints\, brought to you by The Snell Group Realtors\, Picaroons General Store & ICS Creative Agency \n\n\n Date: February 8th 2025\n Location: 32 Canterbury Street\, Saint John NB (Picaroons)\n Time: 1PM – 3PM\n\n\nJoin us for:\n Wagging tails\, adorable smooches\, and refreshing pints\n $1 off your beer for every donation to the Saint John SPCA – because helping pups has never been this fun!\n A free Polaroid picture of you and your pup (digital version available on Facebook!)\n Goody bags for your furry friend to take home\n\n\nDon’t miss this pawsome event – it’s the perfect mix of fun\, community\, and giving back. We can’t wait to see you and your furry companions there! \n\n\nTag your dog-loving friends and spread the word! \n\n\n
URL:https://kool98.fm/event/pooches-smooches-and-pints/
CATEGORIES:Charity Event,Community Events
ATTACH;FMTTYPE=image/png:https://kool98.fm/wp-content/uploads/sites/10/2025/01/SPCAPoster-v3-.png
END:VEVENT
END:VCALENDAR