BEGIN:VCALENDAR
VERSION:2.0
PRODID:-//Kool 98 - ECPv4.6.26//NONSGML v1.0//EN
CALSCALE:GREGORIAN
METHOD:PUBLISH
X-WR-CALNAME:Kool 98
X-ORIGINAL-URL:https://kool98.fm
X-WR-CALDESC:Events for Kool 98
BEGIN:VEVENT
DTSTART;TZID=America/Halifax:20170804T170000
DTEND;TZID=America/Halifax:20170804T230000
DTSTAMP:20260422T103656
CREATED:20170707T141003Z
LAST-MODIFIED:20170707T141003Z
UID:3305-1501866000-1501887600@kool98.fm
SUMMARY:Nine Dine and Nine at Night
DESCRIPTION:5:00pm – Registration \n6:00pm- Shot Gun 9 Hole Start \n8:00pm- Buffet Dinner \n9:00pm- 9 Holes of Night Golf. \nTo register\, email foundation@lochlomondvilla.com or call 506-643-7110. Registration fee includes 9 Holes in Evening\, 9 Holes of night golf \, and buffet dinner.(Limited Space Available) \nAll proceeds in support of Loch Lomond Villa Foundation. “Improving the quality of life for the residents and families of the Loch Lomond Villa.” \n  \n  \n
URL:https://kool98.fm/event/nine-dine-and-nine-at-night/
END:VEVENT
END:VCALENDAR