BEGIN:VCALENDAR
VERSION:2.0
PRODID:-//Kool 98 - ECPv4.6.26//NONSGML v1.0//EN
CALSCALE:GREGORIAN
METHOD:PUBLISH
X-WR-CALNAME:Kool 98
X-ORIGINAL-URL:https://kool98.fm
X-WR-CALDESC:Events for Kool 98
BEGIN:VEVENT
DTSTART;VALUE=DATE:20260506
DTEND;VALUE=DATE:20260507
DTSTAMP:20260422T101014
CREATED:20260415T155256Z
LAST-MODIFIED:20260415T155256Z
UID:12365-1778025600-1778111999@kool98.fm
SUMMARY:McHappy Day - May 6
DESCRIPTION:Join us on May 6th for McHappy Day in Saint John and Quispamsis\nwhere every visit helps support families in our community! \nStart your morning with Dennis broadcasting live on K100 from 6 to 10am\nat 175 Hampton Road in Quispamsis\, bringing the energy\, fun\, and great prizes. \nThen keep the celebration going with Joelle Worrell from Kool98\, live on-site from 10am to noon\nat the Fairville Boulevard location on Saint John’s west side. \nStop by\, grab your favourites\, and be part of something meaningful\nbecause every purchase makes a difference on McHappy Day! \n
URL:https://kool98.fm/event/mchappy-day-may-6/
CATEGORIES:Charity Event
ATTACH;FMTTYPE=image/jpeg:https://kool98.fm/wp-content/uploads/sites/10/2026/04/667795052_1381536540682830_3737615448126811205_n.jpg
END:VEVENT
END:VCALENDAR