BEGIN:VCALENDAR
VERSION:2.0
PRODID:-//Kool 98 - ECPv4.6.26//NONSGML v1.0//EN
CALSCALE:GREGORIAN
METHOD:PUBLISH
X-WR-CALNAME:Kool 98
X-ORIGINAL-URL:https://kool98.fm
X-WR-CALDESC:Events for Kool 98
BEGIN:VEVENT
DTSTART;TZID=America/Halifax:20171015T133000
DTEND;TZID=America/Halifax:20171015T153000
DTSTAMP:20260421T105731
CREATED:20171003T121535Z
LAST-MODIFIED:20171003T121535Z
UID:3727-1508074200-1508081400@kool98.fm
SUMMARY:Marine Mammal and Seal Search
DESCRIPTION:Come and enjoy the playful antics of our harbour seals as they jostle for position on the rocks off the Observation Deck. We’ll discuss the natural history of these sea dogs and other marine mammals as well as any other feathered friends we may encounter along the way. Meet us at the Seal Observation Deck as we commence our viewing experience. Binoculars will be provided! \n
URL:https://kool98.fm/event/marine-mammal-and-seal-search/
END:VEVENT
END:VCALENDAR