BEGIN:VCALENDAR
VERSION:2.0
PRODID:-//Kool 98 - ECPv4.6.26//NONSGML v1.0//EN
CALSCALE:GREGORIAN
METHOD:PUBLISH
X-WR-CALNAME:Kool 98
X-ORIGINAL-URL:https://kool98.fm
X-WR-CALDESC:Events for Kool 98
BEGIN:VEVENT
DTSTART;TZID=America/Halifax:20170602T201500
DTEND;TZID=America/Halifax:20170602T213000
DTSTAMP:20260421T051201
CREATED:20170525T162646Z
LAST-MODIFIED:20170525T162646Z
UID:2986-1496434500-1496439000@kool98.fm
SUMMARY:Light The Night Walk
DESCRIPTION:Rothesay Park Middle School is holding a “Light The Night” walk around Rothesay Common from 8:15-9:20pm.  Everyone is invited.  Donations will be excepted at the event for the Lukemia Society of Canada and the Jonathan Young Memorial Amphitheatre project. \n
URL:https://kool98.fm/event/light-the-night-walk/
END:VEVENT
END:VCALENDAR