BEGIN:VCALENDAR
VERSION:2.0
PRODID:-//Kool 98 - ECPv4.6.26//NONSGML v1.0//EN
CALSCALE:GREGORIAN
METHOD:PUBLISH
X-WR-CALNAME:Kool 98
X-ORIGINAL-URL:https://kool98.fm
X-WR-CALDESC:Events for Kool 98
BEGIN:VEVENT
DTSTART;TZID=America/Halifax:20180927T193000
DTEND;TZID=America/Halifax:20180927T223000
DTSTAMP:20260421T095215
CREATED:20180601T132129Z
LAST-MODIFIED:20180601T132129Z
UID:4025-1538076600-1538087400@kool98.fm
SUMMARY:John Mellencamp Concert
DESCRIPTION:John Mellencamp in playing at the Harbour Station Thurs\, Sept 27th at 7:30pm.  For tickets call 657-1234. \n
URL:https://kool98.fm/event/john-mellencamp-concert/
END:VEVENT
END:VCALENDAR