BEGIN:VCALENDAR
VERSION:2.0
PRODID:-//Kool 98 - ECPv4.6.26//NONSGML v1.0//EN
CALSCALE:GREGORIAN
METHOD:PUBLISH
X-WR-CALNAME:Kool 98
X-ORIGINAL-URL:https://kool98.fm
X-WR-CALDESC:Events for Kool 98
BEGIN:VEVENT
DTSTART;TZID=America/Halifax:20181204T193000
DTEND;TZID=America/Halifax:20181204T213000
DTSTAMP:20260421T123950
CREATED:20181113T195729Z
LAST-MODIFIED:20181113T195729Z
UID:5957-1543951800-1543959000@kool98.fm
SUMMARY:It's Christmas
DESCRIPTION:The Carleton Choristers present “It’s  Christmas”.  Tuesday Dec 4\, 2018 – 7:30 pm at Grace Presbyterian Church (101 Coburg St). Concert tickets are $12 and are available at the door or from chorister members. Director: Christopher Lane. Accompanist: Claire Driscoll. \n
URL:https://kool98.fm/event/its-christmas/
LOCATION:Grace Presbyterian Church
END:VEVENT
END:VCALENDAR