BEGIN:VCALENDAR
VERSION:2.0
PRODID:-//Kool 98 - ECPv4.6.26//NONSGML v1.0//EN
CALSCALE:GREGORIAN
METHOD:PUBLISH
X-WR-CALNAME:Kool 98
X-ORIGINAL-URL:https://kool98.fm
X-WR-CALDESC:Events for Kool 98
BEGIN:VEVENT
DTSTART;TZID=America/Halifax:20170530T170000
DTEND;TZID=America/Halifax:20170530T170000
DTSTAMP:20260423T095004
CREATED:20170517T132127Z
LAST-MODIFIED:20170517T132127Z
UID:2943-1496163600-1496163600@kool98.fm
SUMMARY:Havelock School Open House
DESCRIPTION:Havelock School is celebrating 50 years of learning with an Open House at 5pm\, official program is at 6:30.  All alumni\, former staff and community members are invited. \n
URL:https://kool98.fm/event/havelock-school-open-house/
END:VEVENT
END:VCALENDAR