BEGIN:VCALENDAR
VERSION:2.0
PRODID:-//Kool 98 - ECPv4.6.26//NONSGML v1.0//EN
CALSCALE:GREGORIAN
METHOD:PUBLISH
X-WR-CALNAME:Kool 98
X-ORIGINAL-URL:https://kool98.fm
X-WR-CALDESC:Events for Kool 98
BEGIN:VEVENT
DTSTART;TZID=America/Halifax:20180929T090000
DTEND;TZID=America/Halifax:20180929T140000
DTSTAMP:20260424T101003
CREATED:20180824T123201Z
LAST-MODIFIED:20180824T123201Z
UID:5269-1538211600-1538229600@kool98.fm
SUMMARY:Giant Yard Sale Fundraiser
DESCRIPTION:The Carleton Community Centre will be hosting a Giant Yard Sale Fundraiser on Saturday\, September 29 from 9AM – 2PM\, with just a $2 entrance fee. Tables are available at $10 each and can be reserved by calling Krista at 658-2920. All proceeds support free programming offered at the Centre. For more information\, visit us on Facebook @carleton.community https://www.facebook.com/events/665458150495760/ \n
URL:https://kool98.fm/event/giant-yard-sale-fundraiser/
LOCATION:Carleton Community Center
END:VEVENT
END:VCALENDAR