BEGIN:VCALENDAR
VERSION:2.0
PRODID:-//Kool 98 - ECPv4.6.26//NONSGML v1.0//EN
CALSCALE:GREGORIAN
METHOD:PUBLISH
X-WR-CALNAME:Kool 98
X-ORIGINAL-URL:https://kool98.fm
X-WR-CALDESC:Events for Kool 98
BEGIN:VEVENT
DTSTART;TZID=America/Halifax:20231027T183000
DTEND;TZID=America/Halifax:20231027T203000
DTSTAMP:20260422T084850
CREATED:20231026T005953Z
LAST-MODIFIED:20231026T005953Z
UID:10715-1698431400-1698438600@kool98.fm
SUMMARY:Ghoul School
DESCRIPTION:Games from face painting to cookie decorating\, activities and prizes to win! The cost is $2 and the event is from 6:30pm-8:30pm at SJHS\, 200 Prince William Street. \n
URL:https://kool98.fm/event/ghoul-school/
ATTACH;FMTTYPE=image/jpeg:https://kool98.fm/wp-content/uploads/sites/10/2023/10/thumbnail_image1.jpg
END:VEVENT
END:VCALENDAR