BEGIN:VCALENDAR
VERSION:2.0
PRODID:-//Kool 98 - ECPv4.6.26//NONSGML v1.0//EN
CALSCALE:GREGORIAN
METHOD:PUBLISH
X-WR-CALNAME:Kool 98
X-ORIGINAL-URL:https://kool98.fm
X-WR-CALDESC:Events for Kool 98
BEGIN:VEVENT
DTSTART;TZID=America/Halifax:20170531T190000
DTEND;TZID=America/Halifax:20170531T190000
DTSTAMP:20260421T124254
CREATED:20170503T172243Z
LAST-MODIFIED:20170503T172243Z
UID:2894-1496257200-1496257200@kool98.fm
SUMMARY:Genealogical Society meeting
DESCRIPTION:The Saint John Branch of the N.B. Genealogical Society is holding their monthly meeting at 7pm at the Saint John Free Public Library\, in the Multipurpose Room.  All guests welcome. \n
URL:https://kool98.fm/event/genealogical-society-meeting/
END:VEVENT
END:VCALENDAR