BEGIN:VCALENDAR
VERSION:2.0
PRODID:-//Kool 98 - ECPv4.6.26//NONSGML v1.0//EN
CALSCALE:GREGORIAN
METHOD:PUBLISH
X-WR-CALNAME:Kool 98
X-ORIGINAL-URL:https://kool98.fm
X-WR-CALDESC:Events for Kool 98
BEGIN:VEVENT
DTSTART;TZID=America/Halifax:20170618T120000
DTEND;TZID=America/Halifax:20170618T170000
DTSTAMP:20260424T023200
CREATED:20170607T120516Z
LAST-MODIFIED:20170607T120516Z
UID:3078-1497787200-1497805200@kool98.fm
SUMMARY:Fundy Chapter Walk for Muscular Dystrophy
DESCRIPTION:Hello Everyone\, \nOur annual Fundy Chapter Walk for Muscular Dystrophy event is fast approaching. It will be held on Sunday\, June 18th\, at Noon at HMCS Brunswicker on our beautiful Harbour Passage. This is a rain or shine event\, as we also have the Brunswicker booked in case of inclement weather. \nThis year’s event is packed with fun filled activities for the children\, including carnival games (with prizes)\, and balloons. For all ages\, there will be barbecued hamburgers and hotdogs\, cooked by our local Fire Fighters\, a piper leading the event\, and individual prizes for top fundraisers\, as well as team awards. There is no cost attached to any of these activities. There will also be mini massages at $10 for 10 minutes from a local Massage Therapist. \nIf you have any questions\, please do not hesitate to call us at 506-635-8957 (Nancy) and/or 506-693-0187 (Mike). We would be pleased to answer any questions or concerns. \n
URL:https://kool98.fm/event/fundy-chapter-walk-for-muscular-dystrophy/
END:VEVENT
END:VCALENDAR