BEGIN:VCALENDAR
VERSION:2.0
PRODID:-//Kool 98 - ECPv4.6.26//NONSGML v1.0//EN
CALSCALE:GREGORIAN
METHOD:PUBLISH
X-WR-CALNAME:Kool 98
X-ORIGINAL-URL:https://kool98.fm
X-WR-CALDESC:Events for Kool 98
BEGIN:VEVENT
DTSTART;TZID=America/Halifax:20170808T203000
DTEND;TZID=America/Halifax:20170808T230000
DTSTAMP:20260422T102453
CREATED:20170724T145429Z
LAST-MODIFIED:20170724T145429Z
UID:3389-1502224200-1502233200@kool98.fm
SUMMARY:Full Moon Canada 150 Walk with David Goss
DESCRIPTION:Facts\, stories and stunts about how the moon affects each and every one of us. *Craters named after various Canadians* A snack of Milky way Juice and Moon Cakes will be enjoyed – if we can catch them! This event is sponsored by the Quispamsis Community Services Department and provides an opportunity for participants to check off #19 on ParticipACTION’s Canada 150 Playlist. \nIf the date must be changed due to rain or cloudy conditions\, there will be a recorded message available through 672-8601\, one hour before the event. \n
URL:https://kool98.fm/event/full-moon-canada-150-walk-with-david-goss/
END:VEVENT
END:VCALENDAR