BEGIN:VCALENDAR
VERSION:2.0
PRODID:-//Kool 98 - ECPv4.6.26//NONSGML v1.0//EN
CALSCALE:GREGORIAN
METHOD:PUBLISH
X-WR-CALNAME:Kool 98
X-ORIGINAL-URL:https://kool98.fm
X-WR-CALDESC:Events for Kool 98
BEGIN:VEVENT
DTSTART;TZID=America/Halifax:20170729T190000
DTEND;TZID=America/Halifax:20170729T210000
DTSTAMP:20260424T214837
CREATED:20170725T155029Z
LAST-MODIFIED:20170725T155029Z
UID:3413-1501354800-1501362000@kool98.fm
SUMMARY:Fog City Rollers
DESCRIPTION:Roller Derby game this Saturday at the Stuart Hurley Arena. Saint John Portside Pirates versus Fredericton Spitfires. Game starts at 7pm. \n  \nAdmission: 8 dollars\, 10 and under free. \n
URL:https://kool98.fm/event/fog-city-rollers/
END:VEVENT
END:VCALENDAR