BEGIN:VCALENDAR
VERSION:2.0
PRODID:-//Kool 98 - ECPv4.6.26//NONSGML v1.0//EN
CALSCALE:GREGORIAN
METHOD:PUBLISH
X-WR-CALNAME:Kool 98
X-ORIGINAL-URL:https://kool98.fm
X-WR-CALDESC:Events for Kool 98
BEGIN:VEVENT
DTSTART;VALUE=DATE:20170808
DTEND;VALUE=DATE:20170812
DTSTAMP:20260420T150221
CREATED:20170710T123439Z
LAST-MODIFIED:20170710T123439Z
UID:3308-1502150400-1502495999@kool98.fm
SUMMARY:Dunk Tank Summer Camp
DESCRIPTION:\n\n\n \nThe Dunk Tank summer basketball camp will be held from August 8-11 at the Boys and Girls Club gym\, hosted by the Saint John Rising Stars Youth Basketball Club. The camp is for boys and girls entering grades 4-7\, who have previous basketball experience and want to get to the next level of competitive play. Spaces are limited\, so register now at StarsBasketball.ca\n\n\n\n
URL:https://kool98.fm/event/dunk-tank-summer-camp/
END:VEVENT
END:VCALENDAR