BEGIN:VCALENDAR
VERSION:2.0
PRODID:-//Kool 98 - ECPv4.6.26//NONSGML v1.0//EN
CALSCALE:GREGORIAN
METHOD:PUBLISH
X-WR-CALNAME:Kool 98
X-ORIGINAL-URL:https://kool98.fm
X-WR-CALDESC:Events for Kool 98
BEGIN:VEVENT
DTSTART;TZID=America/Halifax:20170602T190000
DTEND;TZID=America/Halifax:20170602T190000
DTSTAMP:20260421T070900
CREATED:20170510T143851Z
LAST-MODIFIED:20170510T143851Z
UID:2920-1496430000-1496430000@kool98.fm
SUMMARY:Concert at St. Luke's Church
DESCRIPTION:A concert will take place at 7pm at St. Luke’s Anglican Church.  Tickets are $15 and available by calling 693-4152 or at the door.  Mike Biggar and his acoustic trio featuring Matt Hayes and Grant Heckman will be in concert. \n
URL:https://kool98.fm/event/concert-at-st-lukes-church-2/
END:VEVENT
END:VCALENDAR