BEGIN:VCALENDAR
VERSION:2.0
PRODID:-//Kool 98 - ECPv4.6.26//NONSGML v1.0//EN
CALSCALE:GREGORIAN
METHOD:PUBLISH
X-WR-CALNAME:Kool 98
X-ORIGINAL-URL:https://kool98.fm
X-WR-CALDESC:Events for Kool 98
BEGIN:VEVENT
DTSTART;TZID=America/Halifax:20180922T080000
DTEND;TZID=America/Halifax:20180922T130000
DTSTAMP:20260419T214927
CREATED:20180920T130912Z
LAST-MODIFIED:20180920T130912Z
UID:5551-1537603200-1537621200@kool98.fm
SUMMARY:Community Yard Sale - Grand Bay
DESCRIPTION:Grand Bay & Inglewood H&S annual YARD SALE Saturday September 22 from 8am-1pm At the River Valley Community Arena in Grand Bay – Westfield All monies raised help fund school enrichments projects and fun events throughout the year. Please come out and support a great fundraiser!! \n
URL:https://kool98.fm/event/community-yard-sale-grand-bay/
LOCATION:River Valley Community Center
END:VEVENT
END:VCALENDAR