BEGIN:VCALENDAR
VERSION:2.0
PRODID:-//Kool 98 - ECPv4.6.26//NONSGML v1.0//EN
CALSCALE:GREGORIAN
METHOD:PUBLISH
X-WR-CALNAME:Kool 98
X-ORIGINAL-URL:https://kool98.fm
X-WR-CALDESC:Events for Kool 98
BEGIN:VEVENT
DTSTART;TZID=America/Halifax:20170308T060000
DTEND;TZID=America/Halifax:20170308T230000
DTSTAMP:20260421T124003
CREATED:20170303T192044Z
LAST-MODIFIED:20170303T192216Z
UID:2559-1488952800-1489014000@kool98.fm
SUMMARY:Chase The Ace
DESCRIPTION:Join in the fun while supporting the Loch Lomond Villa Foundation!  Chase the Ace takes places every Wednesday at the 3 Mile.  Tickets can be purchased between 5-7pm.  Draw at 7:15pm. \n
URL:https://kool98.fm/event/chase-the-ace-2/
END:VEVENT
END:VCALENDAR