BEGIN:VCALENDAR
VERSION:2.0
PRODID:-//Kool 98 - ECPv4.6.26//NONSGML v1.0//EN
CALSCALE:GREGORIAN
METHOD:PUBLISH
X-WR-CALNAME:Kool 98
X-ORIGINAL-URL:https://kool98.fm
X-WR-CALDESC:Events for Kool 98
BEGIN:VEVENT
DTSTART;TZID=America/Halifax:20250531T190000
DTEND;TZID=America/Halifax:20250531T230000
DTSTAMP:20260424T101336
CREATED:20250325T121124Z
LAST-MODIFIED:20250325T121954Z
UID:11616-1748718000-1748732400@kool98.fm
SUMMARY:Bon Jovi * Bryan Adams Tribute Show
DESCRIPTION: \n
URL:https://kool98.fm/event/bon-jovi-bryan-adams-tribute-show/
CATEGORIES:Concerts
ATTACH;FMTTYPE=image/jpeg:https://kool98.fm/wp-content/uploads/sites/10/2025/03/bonjovi.jpg
END:VEVENT
END:VCALENDAR