BEGIN:VCALENDAR
VERSION:2.0
PRODID:-//Kool 98 - ECPv4.6.26//NONSGML v1.0//EN
CALSCALE:GREGORIAN
METHOD:PUBLISH
X-WR-CALNAME:Kool 98
X-ORIGINAL-URL:https://kool98.fm
X-WR-CALDESC:Events for Kool 98
BEGIN:VEVENT
DTSTART;TZID=America/Halifax:20251109T080000
DTEND;TZID=America/Halifax:20251109T230000
DTSTAMP:20260422T103232
CREATED:20250603T130443Z
LAST-MODIFIED:20250603T130443Z
UID:11771-1762675200-1762729200@kool98.fm
SUMMARY:Blue Rodeo 40th Anniversary Tour
DESCRIPTION: \n
URL:https://kool98.fm/event/blue-rodeo-40th-anniversary-tour/
LOCATION:TD STATION
CATEGORIES:Concerts
ATTACH;FMTTYPE=image/jpeg:https://kool98.fm/wp-content/uploads/sites/10/2025/06/bluerodeo.jpg
END:VEVENT
END:VCALENDAR