BEGIN:VCALENDAR
VERSION:2.0
PRODID:-//Kool 98 - ECPv4.6.26//NONSGML v1.0//EN
CALSCALE:GREGORIAN
METHOD:PUBLISH
X-WR-CALNAME:Kool 98
X-ORIGINAL-URL:https://kool98.fm
X-WR-CALDESC:Events for Kool 98
BEGIN:VEVENT
DTSTART;VALUE=DATE:20220206
DTEND;VALUE=DATE:20220207
DTSTAMP:20260421T105611
CREATED:20210201T163305Z
LAST-MODIFIED:20220131T141033Z
UID:8962-1644105600-1644191999@kool98.fm
SUMMARY:Birthday - GORD DOWNIE
DESCRIPTION:Gordon Edgar Downie CM (February 6\, 1964 – October 17\, 2017) was a Canadian rock singer-songwriter\, musician\, writer and activist. He was the lead singer and lyricist for the Canadian rock band The Tragically Hip\, which he fronted from its formation in 1984 until his death in 2017. \nHe is widely regarded as one of the most influential and popular artists in Canadian music history. \nDownie has released seven solo albums\, two posthumously: Coke Machine Glow (2001)\, Battle of the Nudes (2003)\, The Grand Bounce (2010)\, Secret Path (2016)\, a collaboration with the Sadies\, And the Conquering Sun (2014)\, Introduce Yerself (2017)\, and Away Is Mine (2020). \nHis first to hit number one was Introduce Yerself\, shortly after his death. \nIn May 2016\, Downie and his bandmates received honorary degrees from Queen’s University. Downie was not able to attend the ceremony due to his illness which had not yet been made public. \nOn December 22\, 2016\, Downie was selected as The Canadian Press’ Canadian Newsmaker of the Year and was the first entertainer selected for the title. \nIn December 2017\, Downie was again named Canadian Newsmaker of the Year for the second year in a row\, in recognition of the public reaction to his death. \nDownie\, along with his Tragically Hip bandmates\, was appointed a Member of the Order of Canada on June 19\, 2017\, for “their contribution to Canadian music and for their support of various social and environmental causes”. \n  \n
URL:https://kool98.fm/event/birthday-gord-downie/
CATEGORIES:Birthday
ATTACH;FMTTYPE=image/jpeg:https://kool98.fm/wp-content/uploads/sites/10/2021/01/photo-1523757956233-94a86ff74ea5.jpg
END:VEVENT
END:VCALENDAR