BEGIN:VCALENDAR
VERSION:2.0
PRODID:-//Kool 98 - ECPv4.6.26//NONSGML v1.0//EN
CALSCALE:GREGORIAN
METHOD:PUBLISH
X-WR-CALNAME:Kool 98
X-ORIGINAL-URL:https://kool98.fm
X-WR-CALDESC:Events for Kool 98
BEGIN:VEVENT
DTSTART;VALUE=DATE:20180922
DTEND;VALUE=DATE:20180923
DTSTAMP:20260419T180525
CREATED:20171107T162230Z
LAST-MODIFIED:20171107T162230Z
UID:3910-1537574400-1537660799@kool98.fm
SUMMARY:Autumn Begins
DESCRIPTION:
URL:https://kool98.fm/event/autumn-begins/
END:VEVENT
END:VCALENDAR