BEGIN:VCALENDAR
VERSION:2.0
PRODID:-//Kool 98 - ECPv4.6.26//NONSGML v1.0//EN
CALSCALE:GREGORIAN
METHOD:PUBLISH
X-WR-CALNAME:Kool 98
X-ORIGINAL-URL:https://kool98.fm
X-WR-CALDESC:Events for Kool 98
BEGIN:VEVENT
DTSTART;VALUE=DATE:20170830
DTEND;VALUE=DATE:20170831
DTSTAMP:20260422T114549
CREATED:20170710T135316Z
LAST-MODIFIED:20170710T135316Z
UID:3313-1504051200-1504137599@kool98.fm
SUMMARY:12th Annual Golf Fore Guts
DESCRIPTION:The Riverside Country Club is excited to present the 12th annual Golf Fore Guts – Saint John tournament on Wednesday\, August 30\, 2017.\nWe invite YOU to join business leaders and loyal supporters and show we have the drive to stop Crohn’s and colitis. For life. We will tee up at New Brunswick’s premier\, private golf course. For more information please visit www.tinyurl.com/SJGolf \nThe $28\,000 raised in 2016 at this event was an important part of the over $8 million Crohn’s and Colitis Canada invested last year in the research\, patient programs\, advocacy and awareness!  Join us this year in our drive to stop Crohn’s and colitis. \n
URL:https://kool98.fm/event/12th-annual-golf-fore-guts/
END:VEVENT
END:VCALENDAR